BEGIN:VCALENDAR
VERSION:2.0
PRODID:-//ASINEM - ECPv4.9.9//NONSGML v1.0//EN
CALSCALE:GREGORIAN
METHOD:PUBLISH
X-WR-CALNAME:ASINEM
X-ORIGINAL-URL:https://asinem.net
X-WR-CALDESC:Eventos para ASINEM
BEGIN:VTIMEZONE
TZID:Europe/Madrid
BEGIN:DAYLIGHT
TZOFFSETFROM:+0100
TZOFFSETTO:+0200
TZNAME:CEST
DTSTART:20210328T010000
END:DAYLIGHT
BEGIN:STANDARD
TZOFFSETFROM:+0200
TZOFFSETTO:+0100
TZNAME:CET
DTSTART:20211031T010000
END:STANDARD
END:VTIMEZONE
BEGIN:VEVENT
DTSTART;TZID=Europe/Madrid:20210427T170000
DTEND;TZID=Europe/Madrid:20210427T180000
DTSTAMP:20260423T145229
CREATED:20210416T114939Z
LAST-MODIFIED:20210416T114939Z
UID:30795-1619542800-1619546400@asinem.net
SUMMARY:Webinar Schneider. Posicionamiento digital: el nuevo aliado del instalador. 27/04-17.00h.
DESCRIPTION: \n
URL:https://asinem.net/agenda/webinar-schneider-posicionamiento-digital-el-nuevo-aliado-del-instalador-27-04-17-00h/
LOCATION:#ASINEMOnLine\, España
END:VEVENT
END:VCALENDAR