BEGIN:VCALENDAR
VERSION:2.0
PRODID:-//ASINEM - ECPv4.9.9//NONSGML v1.0//EN
CALSCALE:GREGORIAN
METHOD:PUBLISH
X-WR-CALNAME:ASINEM
X-ORIGINAL-URL:https://asinem.net
X-WR-CALDESC:Eventos para ASINEM
BEGIN:VTIMEZONE
TZID:Europe/Madrid
BEGIN:DAYLIGHT
TZOFFSETFROM:+0100
TZOFFSETTO:+0200
TZNAME:CEST
DTSTART:20210328T010000
END:DAYLIGHT
BEGIN:STANDARD
TZOFFSETFROM:+0200
TZOFFSETTO:+0100
TZNAME:CET
DTSTART:20211031T010000
END:STANDARD
END:VTIMEZONE
BEGIN:VEVENT
DTSTART;TZID=Europe/Madrid:20210331T170000
DTEND;TZID=Europe/Madrid:20210331T180000
DTSTAMP:20260423T134215
CREATED:20210325T120927Z
LAST-MODIFIED:20210325T120927Z
UID:30719-1617210000-1617213600@asinem.net
SUMMARY:Webinar SCHNEIDER: Integración de soluciones de vehículo eléctrico con KNX
DESCRIPTION:\nNombre: Integración de soluciones de vehículo eléctrico con KNX\nDescripción: En esta sesión veremos cómo sacarle el máximo partido a las instalaciones de vehículo eléctrico en residencial con nuestro EVLink Smart Wallbox integrado en Wiser for KNX.\nFecha: 31 de marzo\nHora: 17:00\nLink: WEBINAR SCHNEIDER\n\n \n
URL:https://asinem.net/agenda/webinar-schneider-integracion-de-soluciones-de-vehiculo-electrico-con-knx/
END:VEVENT
END:VCALENDAR