BEGIN:VCALENDAR
VERSION:2.0
PRODID:-//ASINEM - ECPv4.9.9//NONSGML v1.0//EN
CALSCALE:GREGORIAN
METHOD:PUBLISH
X-WR-CALNAME:ASINEM
X-ORIGINAL-URL:https://asinem.net
X-WR-CALDESC:Eventos para ASINEM
BEGIN:VTIMEZONE
TZID:Europe/Madrid
BEGIN:DAYLIGHT
TZOFFSETFROM:+0100
TZOFFSETTO:+0200
TZNAME:CEST
DTSTART:20200329T010000
END:DAYLIGHT
BEGIN:STANDARD
TZOFFSETFROM:+0200
TZOFFSETTO:+0100
TZNAME:CET
DTSTART:20201025T010000
END:STANDARD
END:VTIMEZONE
BEGIN:VEVENT
DTSTART;TZID=Europe/Madrid:20201020T170000
DTEND;TZID=Europe/Madrid:20201020T183000
DTSTAMP:20260422T083709
CREATED:20201019T141315Z
LAST-MODIFIED:20201019T141315Z
UID:30266-1603213200-1603218600@asinem.net
SUMMARY:Webinar Schneider Electric: Novedades KNX-Renovación gama de actuadores Spacelogic
DESCRIPTION:Descubre\, de la mano de Javier Hernandez\, responsable de producto KNX en Schneider Electric\,  la renovación de la gama de actuadores KNX: Spacelogic. \n\nFecha: 20 de octubre\nHora: 17hs\nLink: https://go.schneider-electric.com/ES_202010_Webinar-Electricians-Optimus_LP1.html\n\n \n
URL:https://asinem.net/agenda/webinar-schneider-electric-novedades-knx-renovacion-gama-de-actuadores-spacelogic/
LOCATION:#ASINEMOnLine\, España
END:VEVENT
END:VCALENDAR