BEGIN:VCALENDAR
VERSION:2.0
PRODID:-//ASINEM - ECPv4.9.9//NONSGML v1.0//EN
CALSCALE:GREGORIAN
METHOD:PUBLISH
X-WR-CALNAME:ASINEM
X-ORIGINAL-URL:https://asinem.net
X-WR-CALDESC:Eventos para ASINEM
BEGIN:VTIMEZONE
TZID:Europe/Madrid
BEGIN:DAYLIGHT
TZOFFSETFROM:+0100
TZOFFSETTO:+0200
TZNAME:CEST
DTSTART:20210328T010000
END:DAYLIGHT
BEGIN:STANDARD
TZOFFSETFROM:+0200
TZOFFSETTO:+0100
TZNAME:CET
DTSTART:20211031T010000
END:STANDARD
END:VTIMEZONE
BEGIN:VEVENT
DTSTART;TZID=Europe/Madrid:20210513T160000
DTEND;TZID=Europe/Madrid:20210513T173000
DTSTAMP:20260423T103715
CREATED:20210503T141702Z
LAST-MODIFIED:20210503T141728Z
UID:30863-1620921600-1620927000@asinem.net
SUMMARY:Webinar FENITEL. LOS PROTOCOLOS DE PRUEBA DE ICT: CÓMO REALIZARLOS Y AUTOMATIZARLOS
DESCRIPTION:DÍA Y HORA:  13/05 – 16.00 horas \nAGENDA \nPresentación\n* Protocolo de medidas en ICTs.\n* Gama Ranger.  Equipos ideales para ICTs.\n* Todas las medidas \n\nTerrestre\, Satélite y Fibra\n\n* El simulador de FI y la fuente de luz de fibra\n* Preparar el equipo para automatizar las medidas \n\nCanalizaciones\nDatalogger y toma de datos automática\nGeneración de informes\n\n* Aplicación práctica\n* Generación de informes con kit de medida de fibra\n* ICT-Box \n\nConcepto ICT-Box\nAplicación práctica para TV y Fibra\n\n * Ruegos y preguntas \nPONENTES: Jordi Pallares y Joan Francesc Barril \nINSCRIPCIONES \n
URL:https://asinem.net/agenda/webinar-fenitel-los-protocolos-de-prueba-de-ict-como-realizarlos-y-automatizarlos/
LOCATION:#ASINEMOnLine\, España
END:VEVENT
END:VCALENDAR