BEGIN:VCALENDAR
VERSION:2.0
PRODID:-//ASINEM - ECPv4.9.9//NONSGML v1.0//EN
CALSCALE:GREGORIAN
METHOD:PUBLISH
X-WR-CALNAME:ASINEM
X-ORIGINAL-URL:https://asinem.net
X-WR-CALDESC:Eventos para ASINEM
BEGIN:VTIMEZONE
TZID:Europe/Madrid
BEGIN:DAYLIGHT
TZOFFSETFROM:+0100
TZOFFSETTO:+0200
TZNAME:CEST
DTSTART:20240331T010000
END:DAYLIGHT
BEGIN:STANDARD
TZOFFSETFROM:+0200
TZOFFSETTO:+0100
TZNAME:CET
DTSTART:20241027T010000
END:STANDARD
END:VTIMEZONE
BEGIN:VEVENT
DTSTART;TZID=Europe/Madrid:20240404T110000
DTEND;TZID=Europe/Madrid:20240404T130000
DTSTAMP:20260423T114655
CREATED:20240304T125125Z
LAST-MODIFIED:20240311T125851Z
UID:34089-1712228400-1712235600@asinem.net
SUMMARY:GIRA ONE: Domótica basada en KNX sin Integrador ni Software ETS
DESCRIPTION:🏡💡 Futuro de la domótica con KNX 🌐 Te invitamos a una jornada esencial para profesionales eléctricos: descubre cómo implementar soluciones de domótica KNX de manera sencilla y eficaz\, sin la necesidad de experiencia previa en programación o uso de software especializado. Con Gira One\, nuestro enfoque se centra en facilitar a los electricistas la capacidad de integrar y manejar sistemas basados en KNX con facilidad y eficiencia\, optimizando tus proyectos y ampliando tus servicios. Sumérgete en el mundo de la domótica inteligente\, elevando tus habilidades profesionales sin complicaciones. \n🗓️ 4 de abril 11 a 13 h📍 En ASINEM 😊 \nAl finalizar la jornada\, se ofrece catering y networking. \n🖐️ENLACE DE INSCRIPCIÓN: https://forms.gle/dYxU7D2ZJsojJbmb8 \n \n
URL:https://asinem.net/agenda/domotica-basada-en-knx/
LOCATION:Illes Balears\, España
CATEGORIES:Cursos
ORGANIZER;CN="ASINEM":MAILTO:info@asinem.net
END:VEVENT
END:VCALENDAR