BEGIN:VCALENDAR
VERSION:2.0
PRODID:-//ASINEM - ECPv4.9.9//NONSGML v1.0//EN
CALSCALE:GREGORIAN
METHOD:PUBLISH
X-WR-CALNAME:ASINEM
X-ORIGINAL-URL:https://asinem.net
X-WR-CALDESC:Eventos para ASINEM
BEGIN:VTIMEZONE
TZID:Europe/Madrid
BEGIN:DAYLIGHT
TZOFFSETFROM:+0100
TZOFFSETTO:+0200
TZNAME:CEST
DTSTART:20220327T010000
END:DAYLIGHT
BEGIN:STANDARD
TZOFFSETFROM:+0200
TZOFFSETTO:+0100
TZNAME:CET
DTSTART:20221030T010000
END:STANDARD
END:VTIMEZONE
BEGIN:VEVENT
DTSTART;TZID=Europe/Madrid:20221005T160000
DTEND;TZID=Europe/Madrid:20221005T170000
DTSTAMP:20260425T111528
CREATED:20220816T124117Z
LAST-MODIFIED:20220823T081317Z
UID:32118-1664985600-1664989200@asinem.net
SUMMARY:CURSO | PREVENCIÓN RIESGOS LABORALES FONTANERÍA Y CLIMATIZACIÓN
DESCRIPTION:CURSO PRESENCIAL | Formación va dirigida a  todos los trabajadores que realicen trabajos de fontanería y/o climatización en obras. Este curso es la formación obligatoria en riesgos laborales necesaria para acceder a obras en construcción. \nINSCRIPCIONES  \n \nFechas y formador: \n\n\n\nFecha\nFormador/Ponente\nTemario/Contenido\nHora inicio\nHora fin\nHoras\n\n\n05/10\nMiguel Canyelles\nCONTENIDOS DEL HS 4 SUMINISTRO DEL AGUA\, DEL CTE\n16:00\n19:00\n3\n\n\n06/10\nMiguel Canyelles\nCONTENIDOS DEL HS 4 SUMINISTRO DEL AGUA\, DEL CTE\n16:00\n19:00\n3\n\n\n\n\n\n\n\n\n\n\n\n\n\n\n\n\n\n\n\n\n\n\n\n\n\n\nTotal horas\n6h\n\n\n\n  \nPrecio:  \n80 € ASOCIADOS \n120 € NO ASOCIADOS \nMáximo de asistentes: 20 \n  \n
URL:https://asinem.net/agenda/curso-prevencion-riesgos-laborales-fontaneria-y-climatizacion/
LOCATION:Aulas ASINEM\, Carrer d'es Teixidors\, 32b\, Marratxí\, Illes Balears\, 07141\, España
CATEGORIES:Cursos
ORGANIZER;CN="ASINEM":MAILTO:info@asinem.net
END:VEVENT
END:VCALENDAR