BEGIN:VCALENDAR
VERSION:2.0
PRODID:-//ASINEM - ECPv4.9.9//NONSGML v1.0//EN
CALSCALE:GREGORIAN
METHOD:PUBLISH
X-WR-CALNAME:ASINEM
X-ORIGINAL-URL:https://asinem.net
X-WR-CALDESC:Eventos para ASINEM
BEGIN:VTIMEZONE
TZID:Europe/Madrid
BEGIN:DAYLIGHT
TZOFFSETFROM:+0100
TZOFFSETTO:+0200
TZNAME:CEST
DTSTART:20220327T010000
END:DAYLIGHT
BEGIN:STANDARD
TZOFFSETFROM:+0200
TZOFFSETTO:+0100
TZNAME:CET
DTSTART:20221030T010000
END:STANDARD
END:VTIMEZONE
BEGIN:VEVENT
DTSTART;TZID=Europe/Madrid:20221116T160000
DTEND;TZID=Europe/Madrid:20221124T200000
DTSTAMP:20260423T102948
CREATED:20221024T073419Z
LAST-MODIFIED:20221025T094515Z
UID:32271-1668614400-1669320000@asinem.net
SUMMARY:CURSO PREVENCIÓN RIESGOS LABORALES 20H
DESCRIPTION:CURSO PRESENCIAL | Formación va dirigida a  todos los trabajadores que realicen trabajos de instalaciones eléctricas en obras. Este curso es la formación obligatoria en riesgos laborales necesaria para acceder a obras en construcción. \nFORMULARIO DE INSCRIPCIÓN \n \nFechas y formador: \n\n\n\nFecha\nFormador/Ponente\nTemario/Contenido\nHora inicio\nHora fin\nHoras\n\n\n16/11\nMiguel Canyelles\nDefinición de los trabajos\n16:00\n20:00\n4\n\n\n17/11\nMiguel Canyelles\nTécnicas preventivas específicas\n16:00\n20:00\n4\n\n\n21/11\nMiguel Canyelles\nMedios auxiliares\, equipos y herramientas\n16:00\n20:00\n4\n\n\n22/11\nMiguel Canyelles\n    Verificación\, identificación y vigilancia del lugar de trabajo y su entorno\n16:00\n18:00\n2\n\n\n22/11\nSebastiá Vich\nDefinición de los trabajos\n18:00\n20:00\n2\n\n\n24/11\nSebastiá Vich\nTécnicas preventivas especificas\n16:00\n20:00\n4\n\n\nTotal horas\n20h\n\n\n\n  \nPrecio:  \n195 € ASOCIADOS \n275 € NO ASOCIADOS \nCURSO BONIFICABLE (los alumnos que deseen bonificar el curso deberán indicarlo en el formulario de inscripción) \nMáximo de asistentes: 25 \n
URL:https://asinem.net/agenda/curso-prevencion-riesgos-laborales-20h/
LOCATION:Aulas ASINEM\, Carrer d'es Teixidors\, 32b\, Marratxí\, Illes Balears\, 07141\, España
CATEGORIES:Cursos
ORGANIZER;CN="ASINEM":MAILTO:info@asinem.net
END:VEVENT
END:VCALENDAR