BEGIN:VCALENDAR
VERSION:2.0
PRODID:-//ASINEM - ECPv4.9.9//NONSGML v1.0//EN
CALSCALE:GREGORIAN
METHOD:PUBLISH
X-WR-CALNAME:ASINEM
X-ORIGINAL-URL:https://asinem.net
X-WR-CALDESC:Eventos para ASINEM
BEGIN:VTIMEZONE
TZID:Europe/Madrid
BEGIN:DAYLIGHT
TZOFFSETFROM:+0100
TZOFFSETTO:+0200
TZNAME:CEST
DTSTART:20220327T010000
END:DAYLIGHT
BEGIN:STANDARD
TZOFFSETFROM:+0200
TZOFFSETTO:+0100
TZNAME:CET
DTSTART:20221030T010000
END:STANDARD
END:VTIMEZONE
BEGIN:VEVENT
DTSTART;VALUE=DATE:20221010
DTEND;VALUE=DATE:20221011
DTSTAMP:20260425T112207
CREATED:20220816T123329Z
LAST-MODIFIED:20220919T114356Z
UID:32112-1665360000-1665446399@asinem.net
SUMMARY:CURSO | PREVENCIÓN RIESGOS LABORALES 20H ELECTRICIDAD
DESCRIPTION:CURSO PRESENCIAL | Formación va dirigida a  todos los trabajadores que realicen trabajos de instalaciones eléctricas en obras. Este curso es la formación obligatoria en riesgos laborales necesaria para acceder a obras en construcción. \nINSCRIPCIONES  \n \nFechas y formador: \n\n\n\nFecha\nFormador/Ponente\nTemario/Contenido\nHora inicio\nHora fin\nHoras\n\n\n10/10\nMiguel Canyelles\nDefinición de los trabajos\n16:00\n20:00\n4\n\n\n11/10\nMiguel Canyelles\nTécnicas preventivas específicas\n16:00\n20:00\n4\n\n\n13/10\nMiguel Canyelles\nMedios auxiliares\, equipos y herramientas\n16:00\n20:00\n4\n\n\n17/10\nMiguel Canyelles\n    Verificación\, identificación y vigilancia del lugar de trabajo y su entorno\n16:00\n18:00\n2\n\n\n17/10\nSebastiá Vich\nDefinición de los trabajos\n18:00\n20:00\n2\n\n\n18/10\nSebastiá Vich\nTécnicas preventivas especificas\n16:00\n20:00\n4\n\n\nTotal horas\n20h\n\n\n\n  \nPrecio:  \n195 € ASOCIADOS \n255 € NO ASOCIADOS \nMáximo de asistentes: 20 \n  \n
URL:https://asinem.net/agenda/curso-prevencion-riesgos-laborales-20h-electricidad-2/
LOCATION:Aulas ASINEM\, Carrer d'es Teixidors\, 32b\, Marratxí\, Illes Balears\, 07141\, España
CATEGORIES:Cursos
ORGANIZER;CN="ASINEM":MAILTO:info@asinem.net
END:VEVENT
END:VCALENDAR