BEGIN:VCALENDAR
VERSION:2.0
PRODID:-//ASINEM - ECPv4.9.9//NONSGML v1.0//EN
CALSCALE:GREGORIAN
METHOD:PUBLISH
X-WR-CALNAME:ASINEM
X-ORIGINAL-URL:https://asinem.net
X-WR-CALDESC:Eventos para ASINEM
BEGIN:VTIMEZONE
TZID:Europe/Madrid
BEGIN:DAYLIGHT
TZOFFSETFROM:+0100
TZOFFSETTO:+0200
TZNAME:CEST
DTSTART:20210328T010000
END:DAYLIGHT
BEGIN:STANDARD
TZOFFSETFROM:+0200
TZOFFSETTO:+0100
TZNAME:CET
DTSTART:20211031T010000
END:STANDARD
END:VTIMEZONE
BEGIN:VEVENT
DTSTART;TZID=Europe/Madrid:20210712T150000
DTEND;TZID=Europe/Madrid:20210715T200000
DTSTAMP:20260423T133557
CREATED:20210528T093927Z
LAST-MODIFIED:20210603T091406Z
UID:30984-1626102000-1626379200@asinem.net
SUMMARY:CURSO KNX LOGIC MACHINE
DESCRIPTION:El curso va dirigido a todos aquellos instaladores que quieran conocer la solución de integración de protocolos y equipos utilizados en automatización de viviendas y edificios por medio de los dispositivos lógicos programables Logic Machine. Se recomienda haber superado la formación de KNX Partner. \n\nFECHAS Y HORARIO: lunes 12  de julio a jueves  09 de julio  de 15 a 20h\nDIAS: de lunes a jueves\nDURACIÓN: 20h\nPRECIOS:\n\nASOCIADOS: 345€\nNO ASOCIADOS: 600€\n\n\nINSCRIPCIÓN:FORMULARIO DE INSCRIPCION\nMÁS INFO Y TEMARIO:Circ_038-2021 Curso Knx Logic Machine\n\nEn caso de duda\, contactar con ASINEM en el teléfono 971 77 05 04 o enviar un correo electrónico a secretaria@asinem.net \n  \n \n
URL:https://asinem.net/agenda/curso-knx-logic-machine/
LOCATION:Aulas ASINEM\, Carrer d'es Teixidors\, 32b\, Marratxí\, Illes Balears\, 07141\, España
CATEGORIES:Cursos
ORGANIZER;CN="ASINEM":MAILTO:info@asinem.net
END:VEVENT
END:VCALENDAR