BEGIN:VCALENDAR
VERSION:2.0
PRODID:-//ASINEM - ECPv4.9.9//NONSGML v1.0//EN
CALSCALE:GREGORIAN
METHOD:PUBLISH
X-WR-CALNAME:ASINEM
X-ORIGINAL-URL:https://asinem.net
X-WR-CALDESC:Eventos para ASINEM
BEGIN:VTIMEZONE
TZID:Europe/Madrid
BEGIN:DAYLIGHT
TZOFFSETFROM:+0100
TZOFFSETTO:+0200
TZNAME:CEST
DTSTART:20240331T010000
END:DAYLIGHT
BEGIN:STANDARD
TZOFFSETFROM:+0200
TZOFFSETTO:+0100
TZNAME:CET
DTSTART:20241027T010000
END:STANDARD
END:VTIMEZONE
BEGIN:VEVENT
DTSTART;TZID=Europe/Madrid:20240229T150000
DTEND;TZID=Europe/Madrid:20240229T200000
DTSTAMP:20260422T111024
CREATED:20240123T132403Z
LAST-MODIFIED:20240221T092033Z
UID:33866-1709218800-1709236800@asinem.net
SUMMARY:CURSO DE DISEÑO DE INSTALACIONES DE INFRAESTRUCTURA  DE RECARGA DE VEHÍCULO ELÉCTRICO (ICT-BT-52)
DESCRIPTION:CURSO PRESENCIAL | IRVE  \nEste curso de infraestructura de vehículo eléctrico está dirigido electricistas que quieran ampliar su área de negocio en un sector en plena expansión. \n\n\n\nFecha\nJueves\, 29 de FEBRERO 2024\n\n\nHorario\nde 15:00h a 20:00h\n\n\nLugar\nASINEM – C/Teixidors 32‐B\, 07141\, Polígono de Marratxí\n\n\n\n\n\n\nASOCIADOS ASINEM\ngratuito\n\n\nNO ASOCIADOS ASINEM\n250 €\n\n\n\n  \nPara hacer efectiva la inscripción es imprescindible: \n\nRellenar formulario de inscripción:    FORMULARIO DE INSCRIPCIÓN\n Si no es empresa asociada: Realizar una transferencia bancaria con el importe del curso\, antes del 28 de febrero a la cuenta ES60 0081 0592 8100 0114 4623\, indicando en el concepto: ‘curso 1286 + nombre y apellidos alumno’.\n\n  \nEn caso de duda\, contactar con ASINEM en el teléfono 971 77 05 04 o enviar un correo electrónico a secretaria@asinem.net \n
URL:https://asinem.net/agenda/curso-de-diseno-de-instalaciones-de-infraestructura-de-recarga-de-vehiculo-electrico-ict-bt-52/
LOCATION:Illes Balears\, España
CATEGORIES:Cursos
ORGANIZER;CN="ASINEM":MAILTO:info@asinem.net
END:VEVENT
END:VCALENDAR