BEGIN:VCALENDAR
VERSION:2.0
PRODID:-//ASINEM - ECPv4.9.9//NONSGML v1.0//EN
CALSCALE:GREGORIAN
METHOD:PUBLISH
X-WR-CALNAME:ASINEM
X-ORIGINAL-URL:https://asinem.net
X-WR-CALDESC:Eventos para ASINEM
BEGIN:VTIMEZONE
TZID:Europe/Madrid
BEGIN:DAYLIGHT
TZOFFSETFROM:+0100
TZOFFSETTO:+0200
TZNAME:CEST
DTSTART:20210328T010000
END:DAYLIGHT
BEGIN:STANDARD
TZOFFSETFROM:+0200
TZOFFSETTO:+0100
TZNAME:CET
DTSTART:20211031T010000
END:STANDARD
END:VTIMEZONE
BEGIN:VEVENT
DTSTART;TZID=Europe/Madrid:20210518T120000
DTEND;TZID=Europe/Madrid:20210518T130000
DTSTAMP:20260421T080513
CREATED:20210507T092203Z
LAST-MODIFIED:20210507T092203Z
UID:30881-1621339200-1621342800@asinem.net
SUMMARY:Aula FENIE: Nuevas tarifas eléctricas
DESCRIPTION:CONTENIDOS DE LA FORMACIÓN: \n\nExplicación de las nuevas tarifas eléctricas y sus peajes.\nNuevos periodos horarios con diferentes precios.\nPenalizaciones por exceso de potencia\nModo de adaptación de contratos: precios\, potencias y contadores\nEfectos en la factura de los clientes\nObligación contrato de consumos propios para productores\n\nOBJETIVOS DE LA FORMACIÓN \nConocer el cambio de tarifas eléctricas del 1 de junio para acompañar y aconsejar modos de ahorrar dinero a los clientes. \nPÚBLICO AL QUE VA DIRIGIDO: Cualquier tipo de instalador eléctrico o asesor energético. \nINSCRIPCIONES \n
URL:https://asinem.net/agenda/aula-fenie-nuevas-tarifas-electricas/
LOCATION:AULA FENIE\, España
END:VEVENT
END:VCALENDAR