BEGIN:VCALENDAR
VERSION:2.0
PRODID:-//ASINEM - ECPv4.9.9//NONSGML v1.0//EN
CALSCALE:GREGORIAN
METHOD:PUBLISH
X-WR-CALNAME:ASINEM
X-ORIGINAL-URL:https://asinem.net
X-WR-CALDESC:Eventos para ASINEM
BEGIN:VTIMEZONE
TZID:Europe/Madrid
BEGIN:DAYLIGHT
TZOFFSETFROM:+0100
TZOFFSETTO:+0200
TZNAME:CEST
DTSTART:20210328T010000
END:DAYLIGHT
BEGIN:STANDARD
TZOFFSETFROM:+0200
TZOFFSETTO:+0100
TZNAME:CET
DTSTART:20211031T010000
END:STANDARD
END:VTIMEZONE
BEGIN:VEVENT
DTSTART;TZID=Europe/Madrid:20210420T170000
DTEND;TZID=Europe/Madrid:20210420T180000
DTSTAMP:20260423T115646
CREATED:20210415T134711Z
LAST-MODIFIED:20210415T134711Z
UID:30792-1618938000-1618941600@asinem.net
SUMMARY:AULA FENIE: ¿Cómo hacer presupuestos de obra ágiles y rentables? 20/04-17.00H.
DESCRIPTION:En este seminario online ofrecido por TELEMATEL veremos los siguiente contenidos:\n\nEl presupuesto de obra es un documento clave que establece las bases económicas de una obra o proyecto. En este webinar conoceremos la importancia de gestionar correctamente estos documentos\, valorando los proyectos recibidos\, estimando los costes con fiabilidad y asegurando un margen positivo en cada partida y unidad de obra. \nTemas que se comentarán en esta formación: \n\nPlanificación de un presupuesto.\nDefinición del alcance y contenido.\nConceptos de coste.\nVersiones y anexos.\n\nCaso práctico \nMediante un caso de uso veremos cómo automatizar y reducir tiempo en la creación de presupuestos\, así como controlar costes y asegurar beneficios en cada proyecto. \nPonente \nAntonio Pastrana\, asesor de negocio de Telematel \nINSCRIPCIONES \n\n
URL:https://asinem.net/agenda/aula-fenie-como-hacer-presupuestos-de-obra-agiles-y-rentables-20-04-17-00h/
LOCATION:AULA FENIE\, España
END:VEVENT
END:VCALENDAR